BEGIN:VCALENDAR
VERSION:2.0
PRODID:-//wp-events-plugin.com//7.2.3.1//EN
TZID:Europe/London
X-WR-TIMEZONE:Europe/London
BEGIN:VEVENT
UID:1999@hcpc.scot
DTSTART;TZID=Europe/London:20260325T173000
DTEND;TZID=Europe/London:20260325T193000
DTSTAMP:20260323T134649Z
URL:https://hcpc.scot/courses/online-safety-event-26/
SUMMARY:Online Safety Event - For Parents\, Carers\, Youth & Community grou
 p members - FREE
DESCRIPTION:This is a FREE Event -\n\nJoin us for presentations from\n\n 	T
 amsin McNally\, Hotline Manager at the Internet Watch Foundation who overs
 ees a team of Analysts who investigate reports from members of the public 
 who have stumbled across potential child sexual abuse images. They additio
 nally proactively search for child sexual abuse material on the internet s
 o that it can be blocked and removed. In partnership with the NSPCC\, the 
 IWF also run Report Remove\; a tool that empowers children in the UK to re
 port their own nude images and get them taken down.  \n 	Leah McBain\, Y
 outh Convenor\, Highland Council who has reached out to every High School 
 in Highland to gain the views of Young People - lets listen and learn from
  what they say\n\nFollowed by local support &amp\; advice - have a chat ov
 er a cup of tea or coffee.\nA confirmation email of accepted booking will 
 be sent separately.\n\nIf there any changes to the event we will use the e
 mail you have provided on booking - please check this for any updates befo
 re you arrive.
LOCATION:glen mhor hotel\, \, United Kingdom
X-APPLE-STRUCTURED-LOCATION;VALUE=URI;X-ADDRESS=\, United Kingdom;X-APPLE-R
 ADIUS=100;X-TITLE=glen mhor hotel:geo:0,0
END:VEVENT
BEGIN:VTIMEZONE
TZID:Europe/London
X-LIC-LOCATION:Europe/London
BEGIN:STANDARD
DTSTART:20251026T010000
TZOFFSETFROM:+0100
TZOFFSETTO:+0000
TZNAME:GMT
END:STANDARD
END:VTIMEZONE
END:VCALENDAR